BEGIN:VCALENDAR
VERSION:2.0
PRODID:-//המכללה לאסתטיקה- בית ספר וחנות למקצועות היופי - ECPv5.8.0//NONSGML v1.0//EN
CALSCALE:GREGORIAN
METHOD:PUBLISH
X-WR-CALNAME:המכללה לאסתטיקה- בית ספר וחנות למקצועות היופי
X-ORIGINAL-URL:https://m-estetic.co.il
X-WR-CALDESC:אירועים ל המכללה לאסתטיקה- בית ספר וחנות למקצועות היופי
BEGIN:VTIMEZONE
TZID:Asia/Jerusalem
BEGIN:DAYLIGHT
TZOFFSETFROM:+0200
TZOFFSETTO:+0300
TZNAME:IDT
DTSTART:20190329T000000
END:DAYLIGHT
BEGIN:STANDARD
TZOFFSETFROM:+0300
TZOFFSETTO:+0200
TZNAME:IST
DTSTART:20191026T230000
END:STANDARD
END:VTIMEZONE
BEGIN:VEVENT
DTSTART;VALUE=DATE:20191113
DTEND;VALUE=DATE:20191121
DTSTAMP:20210801T112429
CREATED:20191020T201916Z
LAST-MODIFIED:20191020T201921Z
UID:14451-1573603200-1574294399@m-estetic.co.il
SUMMARY:קורס מחיקת איפור קבוע
DESCRIPTION:קורס מחיקת איפור קבוע בעלות של 1700 ש”ח. \nיש קורס בוקר או ערב לפי מקום פנוי. \nסיכום האירועשם ההדרכה ​קורס מחיקת איפור קבוע\n			\n			מיקום  \n				​\n							בית ספר המכללה לאסתטיקה\,העיר העתיקה\,באר שבע\n			מתחיל בתאריך  13/11/2019מסתיים בתאריך  20/11/2019תיאור  קורס מחיקת איפור קבוע בעלות של 1700 ש"ח. \n\nיש קורס בוקר או ערב לפי מקום פנוי.מחיר \n			ILS  1700Buy Tickets
URL:https://m-estetic.co.il/event/%d7%a7%d7%95%d7%a8%d7%a1-%d7%9e%d7%97%d7%99%d7%a7%d7%aa-%d7%90%d7%99%d7%a4%d7%95%d7%a8-%d7%a7%d7%91%d7%95%d7%a2-2/
LOCATION:בית ספר המכללה לאסתטיקה\, הרצל 91\, באר שבע\, הנגב\, דרום ישראל\, Israel
CATEGORIES:איפור קבוע
ATTACH;FMTTYPE=image/jpeg:https://m-estetic.co.il/wp-content/uploads/2017/06/קורס-איפור-קבוע-בית-ספר-המכללה-לאסתטיקה-30.jpg
ORGANIZER;CN="%D7%94%D7%9E%D7%9B%D7%9C%D7%9C%D7%94%20%D7%9C%D7%90%D7%A1%D7%AA%D7%98%D7%99%D7%A7%D7%94":MAILTO:est51444@gmail.com
END:VEVENT
END:VCALENDAR