BEGIN:VCALENDAR
VERSION:2.0
PRODID:-//המכללה לאסתטיקה- בית ספר וחנות למקצועות היופי - ECPv5.8.0//NONSGML v1.0//EN
CALSCALE:GREGORIAN
METHOD:PUBLISH
X-WR-CALNAME:המכללה לאסתטיקה- בית ספר וחנות למקצועות היופי
X-ORIGINAL-URL:https://m-estetic.co.il
X-WR-CALDESC:אירועים ל המכללה לאסתטיקה- בית ספר וחנות למקצועות היופי
BEGIN:VTIMEZONE
TZID:Asia/Jerusalem
BEGIN:DAYLIGHT
TZOFFSETFROM:+0200
TZOFFSETTO:+0300
TZNAME:IDT
DTSTART:20200327T000000
END:DAYLIGHT
BEGIN:STANDARD
TZOFFSETFROM:+0300
TZOFFSETTO:+0200
TZNAME:IST
DTSTART:20201024T230000
END:STANDARD
END:VTIMEZONE
BEGIN:VEVENT
DTSTART;TZID=Asia/Jerusalem:20200204T140000
DTEND;TZID=Asia/Jerusalem:20200204T170000
DTSTAMP:20210731T163414
CREATED:20200202T003210Z
LAST-MODIFIED:20200202T003306Z
UID:14613-1580824800-1580835600@m-estetic.co.il
SUMMARY:סמינר טיפול בנגעים עם המאסטרית מבלגיה
DESCRIPTION:
URL:https://m-estetic.co.il/event/%d7%a1%d7%9e%d7%99%d7%a0%d7%a8-%d7%98%d7%99%d7%a4%d7%95%d7%9c-%d7%91%d7%a0%d7%92%d7%a2%d7%99%d7%9d-%d7%a2%d7%9d-%d7%94%d7%9e%d7%90%d7%a1%d7%98%d7%a8%d7%99%d7%aa-%d7%9e%d7%91%d7%9c%d7%92%d7%99%d7%94/
LOCATION:בית ספר המכללה לאסתטיקה\, הרצל 91\, באר שבע\, הנגב\, דרום ישראל\, Israel
CATEGORIES:קוסמטיקה
ORGANIZER;CN="%D7%94%D7%9E%D7%9B%D7%9C%D7%9C%D7%94%20%D7%9C%D7%90%D7%A1%D7%AA%D7%98%D7%99%D7%A7%D7%94":MAILTO:est51444@gmail.com
END:VEVENT
END:VCALENDAR