BEGIN:VCALENDAR
VERSION:2.0
PRODID:-//המכללה לאסתטיקה- בית ספר וחנות למקצועות היופי - ECPv5.8.1//NONSGML v1.0//EN
CALSCALE:GREGORIAN
METHOD:PUBLISH
X-WR-CALNAME:המכללה לאסתטיקה- בית ספר וחנות למקצועות היופי
X-ORIGINAL-URL:https://m-estetic.co.il
X-WR-CALDESC:אירועים ל המכללה לאסתטיקה- בית ספר וחנות למקצועות היופי
BEGIN:VTIMEZONE
TZID:Asia/Jerusalem
BEGIN:DAYLIGHT
TZOFFSETFROM:+0200
TZOFFSETTO:+0300
TZNAME:IDT
DTSTART:20190329T000000
END:DAYLIGHT
BEGIN:STANDARD
TZOFFSETFROM:+0300
TZOFFSETTO:+0200
TZNAME:IST
DTSTART:20191026T230000
END:STANDARD
END:VTIMEZONE
BEGIN:VEVENT
DTSTART;TZID=Asia/Jerusalem:20190401T103000
DTEND;TZID=Asia/Jerusalem:20190401T170000
DTSTAMP:20210810T044348
CREATED:20190328T000021Z
LAST-MODIFIED:20190328T000021Z
UID:14261-1554114600-1554138000@m-estetic.co.il
SUMMARY:סוגי שעוות בוקי
DESCRIPTION:סיכום האירועשם ההדרכה ​שעוות בוקי ועבודה נכונה\n			\n			מיקום  \n				​\n							בית ספר המכללה לאסתטיקה\,באר שבע\,דרום ישראל\n			מתחיל בתאריך  01/04/2019מסתיים בתאריך  01/04/2019מחיר \n			ש"ח  0Buy Tickets
URL:https://m-estetic.co.il/event/%d7%a1%d7%95%d7%92%d7%99-%d7%a9%d7%a2%d7%95%d7%95%d7%aa-%d7%91%d7%95%d7%a7%d7%99/
LOCATION:בית ספר המכללה לאסתטיקה\, הרצל 91\, באר שבע\, הנגב\, דרום ישראל\, Israel
CATEGORIES:הסרת שיער
ATTACH;FMTTYPE=image/jpeg:https://m-estetic.co.il/wp-content/uploads/2019/03/שעוות-של-חברת-בוקי.jpg
ORGANIZER;CN="%D7%94%D7%9E%D7%9B%D7%9C%D7%9C%D7%94%20%D7%9C%D7%90%D7%A1%D7%AA%D7%98%D7%99%D7%A7%D7%94":MAILTO:est51444@gmail.com
END:VEVENT
END:VCALENDAR