BEGIN:VCALENDAR
VERSION:2.0
PRODID:-//המכללה לאסתטיקה- בית ספר וחנות למקצועות היופי - ECPv5.8.1//NONSGML v1.0//EN
CALSCALE:GREGORIAN
METHOD:PUBLISH
X-WR-CALNAME:המכללה לאסתטיקה- בית ספר וחנות למקצועות היופי
X-ORIGINAL-URL:https://m-estetic.co.il
X-WR-CALDESC:אירועים ל המכללה לאסתטיקה- בית ספר וחנות למקצועות היופי
BEGIN:VTIMEZONE
TZID:Asia/Jerusalem
BEGIN:DAYLIGHT
TZOFFSETFROM:+0200
TZOFFSETTO:+0300
TZNAME:IDT
DTSTART:20170324T000000
END:DAYLIGHT
BEGIN:STANDARD
TZOFFSETFROM:+0300
TZOFFSETTO:+0200
TZNAME:IST
DTSTART:20171028T230000
END:STANDARD
END:VTIMEZONE
BEGIN:VEVENT
DTSTART;TZID=Asia/Jerusalem:20170619T103000
DTEND;TZID=Asia/Jerusalem:20170619T113000
DTSTAMP:20210810T044045
CREATED:20170612T020122Z
LAST-MODIFIED:20170612T020213Z
UID:12687-1497868200-1497871800@m-estetic.co.il
SUMMARY:מאג'יריי מיקרו נידלינג
DESCRIPTION:מאג’יריי מיקרו נידלינג עם פוטון. \nהתקשרי לאשר את הגעתך. \n 
URL:https://m-estetic.co.il/event/%d7%9e%d7%90%d7%92%d7%99%d7%a8%d7%99%d7%99-%d7%9e%d7%99%d7%a7%d7%a8%d7%95-%d7%a0%d7%99%d7%93%d7%9c%d7%99%d7%a0%d7%92/
LOCATION:בית ספר המכללה לאסתטיקה\, הרצל 91\, באר שבע\, הנגב\, דרום ישראל\, Israel
CATEGORIES:קוסמטיקה
ORGANIZER;CN="%D7%94%D7%9E%D7%9B%D7%9C%D7%9C%D7%94%20%D7%9C%D7%90%D7%A1%D7%AA%D7%98%D7%99%D7%A7%D7%94":MAILTO:est51444@gmail.com
END:VEVENT
END:VCALENDAR